BEGIN:VCALENDAR
VERSION:2.0
PRODID:-// - ECPv5.2.1.1//NONSGML v1.0//EN
CALSCALE:GREGORIAN
METHOD:PUBLISH
X-ORIGINAL-URL:https://mhleucemia.fr
X-WR-CALDESC:évènements pour 
BEGIN:VTIMEZONE
TZID:UTC
BEGIN:STANDARD
TZOFFSETFROM:+0000
TZOFFSETTO:+0000
TZNAME:UTC
DTSTART:20180101T000000
END:STANDARD
END:VTIMEZONE
BEGIN:VEVENT
DTSTART;VALUE=DATE:20180617
DTEND;VALUE=DATE:20180618
DTSTAMP:20260420T075814
CREATED:20180608T203226Z
LAST-MODIFIED:20180617T215712Z
UID:358-1529193600-1529279999@mhleucemia.fr
SUMMARY:Les Foulées de la Ligue le 17 Juin 2018 parc des expos Colmar
DESCRIPTION:flyer A5_FDL 2018
URL:https://mhleucemia.fr/event/les-foulees-de-la-ligue-le-17-juin-2018-parc-des-expos-colmar
LOCATION:colmar\, Parc des expos\, colmar\, 68000\, France
CATEGORIES:Dates et lieu d'événements,Evénements
END:VEVENT
END:VCALENDAR