BEGIN:VCALENDAR
VERSION:2.0
PRODID:-// - ECPv5.2.1.1//NONSGML v1.0//EN
CALSCALE:GREGORIAN
METHOD:PUBLISH
X-ORIGINAL-URL:https://mhleucemia.fr
X-WR-CALDESC:évènements pour 
BEGIN:VTIMEZONE
TZID:UTC
BEGIN:STANDARD
TZOFFSETFROM:+0000
TZOFFSETTO:+0000
TZNAME:UTC
DTSTART:20180101T000000
END:STANDARD
END:VTIMEZONE
BEGIN:VEVENT
DTSTART;TZID=UTC:20180628T080000
DTEND;TZID=UTC:20180628T170000
DTSTAMP:20260420T075758
CREATED:20180615T182628Z
LAST-MODIFIED:20180619T210940Z
UID:404-1530172800-1530205200@mhleucemia.fr
SUMMARY:Internationaux CROSSFIT à Liège (BEL) Juin 2018
DESCRIPTION:
URL:https://mhleucemia.fr/event/internationaux-crossfit-a-liege-belles-16-et-17-juin-2018
LOCATION:liège Belgique\, Belgique
END:VEVENT
END:VCALENDAR